BEGIN:VCALENDAR
VERSION:2.0
PRODID:-//Máme zábavu - ECPv6.6.1//NONSGML v1.0//EN
CALSCALE:GREGORIAN
METHOD:PUBLISH
X-ORIGINAL-URL:https://mamezabavu.cz
X-WR-CALDESC:Akce na Máme zábavu
REFRESH-INTERVAL;VALUE=DURATION:PT1H
X-Robots-Tag:noindex
X-PUBLISHED-TTL:PT1H
BEGIN:VTIMEZONE
TZID:Europe/Prague
BEGIN:DAYLIGHT
TZOFFSETFROM:+0100
TZOFFSETTO:+0200
TZNAME:CEST
DTSTART:20250330T010000
END:DAYLIGHT
BEGIN:STANDARD
TZOFFSETFROM:+0200
TZOFFSETTO:+0100
TZNAME:CET
DTSTART:20251026T010000
END:STANDARD
END:VTIMEZONE
BEGIN:VEVENT
DTSTART;TZID=Europe/Prague:20250412T200000
DTEND;TZID=Europe/Prague:20250412T200000
DTSTAMP:20260420T143747
CREATED:20250319T113526Z
LAST-MODIFIED:20250320T025950Z
UID:736-1744488000-1744488000@mamezabavu.cz
SUMMARY:Dita trio koncert v centru Prahy
DESCRIPTION:Dita je charismatická a živelná muzikantka\, která si skládá originální českou a anglickou hudbu v různých žánrech od blues přes rock\, reggae či jazz (americana). Doprovází se na kytaru\, ukulele a foukací harmoniky. Pravidelně vystupuje v klubech\, na trzích a festivalech sólo nebo s kapelou Dita trio v současném složení Jan Skružný basa a Tala Tafech/Hana Gasseldorferová perkuse/bicí. \nVstupné dobrovolné.\nOdkaz na událost na Facebooku. \nUkázka:\n\nhttps://mamezabavu.cz/wp-content/uploads/Dita-trio-Visim-stojim.mp3
URL:https://mamezabavu.cz/akce/dita-trio-koncert-praha/
LOCATION:Kafe Damu Praha\, Karlova 223/26\, Praha\, 11000\, Czech Republic
ATTACH;FMTTYPE=image/jpeg:https://mamezabavu.cz/wp-content/uploads/Dita-trio-Damu.jpeg
END:VEVENT
BEGIN:VEVENT
DTSTART;TZID=Europe/Prague:20250422T080000
DTEND;TZID=Europe/Prague:20250422T170000
DTSTAMP:20260420T143747
CREATED:20250422T151701Z
LAST-MODIFIED:20250422T152401Z
UID:790-1745308800-1745341200@mamezabavu.cz
SUMMARY:test
DESCRIPTION:test
URL:https://mamezabavu.cz/akce/test/
END:VEVENT
END:VCALENDAR