BEGIN:VCALENDAR
VERSION:2.0
PRODID:-//Máme zábavu - ECPv6.6.1//NONSGML v1.0//EN
CALSCALE:GREGORIAN
METHOD:PUBLISH
X-WR-CALNAME:Máme zábavu
X-ORIGINAL-URL:https://mamezabavu.cz
X-WR-CALDESC:Akce na Máme zábavu
REFRESH-INTERVAL;VALUE=DURATION:PT1H
X-Robots-Tag:noindex
X-PUBLISHED-TTL:PT1H
BEGIN:VTIMEZONE
TZID:Europe/Prague
BEGIN:DAYLIGHT
TZOFFSETFROM:+0100
TZOFFSETTO:+0200
TZNAME:CEST
DTSTART:20240331T010000
END:DAYLIGHT
BEGIN:STANDARD
TZOFFSETFROM:+0200
TZOFFSETTO:+0100
TZNAME:CET
DTSTART:20241027T010000
END:STANDARD
END:VTIMEZONE
BEGIN:VEVENT
DTSTART;TZID=Europe/Prague:20241012T170000
DTEND;TZID=Europe/Prague:20241012T200000
DTSTAMP:20260421T040738
CREATED:20240904T094828Z
LAST-MODIFIED:20240905T110413Z
UID:321-1728752400-1728763200@mamezabavu.cz
SUMMARY:Živá beseda a posezení v Tichu s Jiřím Ledvinkou + koncert
DESCRIPTION:Zveme vás na živé setkání s Jiřím Ledvinkou v Brně.\nV tento den proběhnou 2 setkání a na konci se uskuteční koncert\, který je zdarma ke vstupence na besedu nebo posezení v Tichu. \nPopis besedy od 17:00:\nSetkání probíhá formou otázek a odpovědí\, ale může mít také formu debaty a sdílení nebo chvil v tichu a prostém bytí. Celé setkání je podpořeno intenzivním harmonizačním procesem\, který bude probíhat naplno po celou dobu besedy. \nBěhem besedy se můžeme dotknout různých životních témat\, konkrétních situací i principiálních otázek o našem světě\, společnosti\, vztazích\, vnímání a rozhodování. \nJiřího reakce a odpovědi jsou vždy individuální\, přesně na míru danému člověku a aktuální situaci. Cílem je upevnění toho dobrého a vědomého v lidské bytosti\, zpevnění se ve svém zdravém středu\, ze kterého můžeme ke všemu přistupovat lépe\, než s pozice chaosu\, musení a bolesti. Nejde ale jen o teoretické pochopení – ty podstatné změny se dějí v klidu\, přímým osobním prožitím\, za hranicí slov. \nPozvání platí pro všechny\, kteří touží žít i v jiných možnostech naší reality\, kteří jsou připraveni ke zvědomování si moudrosti v sobě a kteří se rádi setkávají se stejně naladěnou komunitou.\nRegistrace na besedu zde. \n \nPopis posezení v Tichu od 18:45:\nTato forma setkání je pro ty\, kteří chtějí jít za hranici slov a jen v klidu pobýt v tichu a čisté přítomnosti\, s podporou harmonizujícího působení. Setkání probíhá bez otázek a odpovědí.\nRegistrace na posezení v Tichu zde.\n\n\nKoncert kytarista Karel + Kuba na cajon od 19:00 \nzahrají grunge ve svém  jemném kabátku. Kytarista Karel hraje často vlastní songy i známé hitovky. K tomu ho doprovodí Kuba na cajon\, což je dřevěný latinsko-americký buben. Hraní bude formou improvizace.
URL:https://mamezabavu.cz/akce/ziva-beseda-a-posezeni-v-tichu-s-jirim-ledvinkou-koncert/
LOCATION:Společenské centrum Brno-sever\, Okružní 823/21\, Brno-Lesná\, 638 00\, Česká republika
ATTACH;FMTTYPE=image/png:https://mamezabavu.cz/wp-content/uploads/Jirka-Karel-e1725443248268.png
END:VEVENT
BEGIN:VEVENT
DTSTART;TZID=Europe/Prague:20240927T180000
DTEND;TZID=Europe/Prague:20240927T220000
DTSTAMP:20260421T040738
CREATED:20240819T184732Z
LAST-MODIFIED:20240928T114329Z
UID:213-1727460000-1727474400@mamezabavu.cz
SUMMARY:Koncert Shivanam a Strawberry Feelings
DESCRIPTION:Koupit vstupenku \nShivanam – Etno tribal \nExistuje 26 let. \nVydali 4 alba\, jedno EP a 5 singlů. \nSpolupracovali se zajímavými umělci z celého světa. \nHráli po Evropských festivalech jako: Boom v Portugalsku\, nebo Sziged festivalu v Maďarsku\, v Rumunsku\, Rakousku\, Ukrajině i Slovensku a na mnoho dalších. \nJejich spojení etnických nástrojů spolu s elektronikou\, perkusním pojetím rytmů a skvělou instrumentací\, podpoření velmi silnými basovými linkami a živou swingující rytmikou vás uvede do extatického stavu již po několika skladbách. \nJednoduše: Kosmickej Bigbít. \nVydávají pravidelně u zahraničních labelů jako Mystic Sound (USA) \nV současnosti je jejich dvorním vydavatelem label Cosmicleaf Records (Greece) \nOdkaz na událost na Facebooku \nOficiální webové stránky kapely: Shivanam.cz \nIvan Jašek: guitar synthesizer\, Voice\, samples\, loopers\, djembe\, mixing\nEdgar Mojdl: keyboards\, samplers\, whistles\, flutes\, djembe\, ghatam\, voice\nTomas Plšek: drums\, Drumpad\, Darbuka\nDavid Kopečný: bass guitar \n \n  \n  \nStrawberry Feelings – Olga Pašková\n \n \nSólová písničkářka\, která hraje s občasnými hosty.\nJejí tvorba je ovlivněná a inspirovaná častými cestami do přírody\, hlavně v zahraničí\, a proto je většina jejich textů v angličtině\, sem tam přidá i nějaký český text.\nRáda si hraje s hudbou i slovy. Poezii a mluvené slovo si budete moci poslechnout za doprovodu autorských klavírních skladeb. \n \nVeganské občerstvení zajištěno. \n\nVstupné v předprodeji za 490 Kč a na místě za 550 Kč.
URL:https://mamezabavu.cz/akce/koncert-shivanam/
LOCATION:Lidový dům Musilka\, Musilova 407/2\, Brno-Husovice\, 614 00\, Česká republika
ATTACH;FMTTYPE=image/png:https://mamezabavu.cz/wp-content/uploads/Koncert-v-Musilce_240829_211152_1-e1724959093965.png
END:VEVENT
BEGIN:VEVENT
DTSTART;TZID=Europe/Prague:20240914T100000
DTEND;TZID=Europe/Prague:20240921T100000
DTSTAMP:20260421T040738
CREATED:20240905T131835Z
LAST-MODIFIED:20240915T123214Z
UID:348-1726308000-1726912800@mamezabavu.cz
SUMMARY:Transformační dovolená s Jiřím Ledvinkou a Jaroslavem Grűnwaldem
DESCRIPTION:Připojte se k jedinečnému dobrodružství duchovní transformace a obnovy\, které se odehraje na malebných březích Chorvatska! Společně s  Jaroslavem Grűnwaldem a Jirkou Ledvinkou\, se vydáte na cestu k objevení vašeho vnitřního světla a síly. Chorvatsko\, země s fascinující historií a nádherným pobřežím\, bude naším hřištěm pro hlubokou práci na sobě a transformaci. Prozkoumejte tajemství vaší duše a objevte nové rozměry sebe sama. S Jaroslavem Grűnwaldem a Jirkou Ledvinkou  budeme prozkoumávat nejen krásy chorvatské krajiny\, ale i hloubky našeho nitra. Budeme se učit\, růst a sdílet zkušenosti s ostatními\, kteří se na této cestě k osobnímu poznání a transformaci rozhodli připojit.Nechte za sebou každodenní starosti a nechte se unést magií tohoto úžasného místa a naší společné cesty. Toto dobrodružství v Chorvatsku bude vaší bránou k novým možnostem a hlubšímu porozumění sobě samým. \n Každý večer se můžete těšit na společné besedy s Jirkou Ledvinkou a Jaroslavem Grűnwaldem. Dopoledne je možnost individuálních setkání a rozhovorů\, jakož i společných výletů. Oáza Mira nabízí ubytování v moderních mobilních domech s vlastní kuchyní\, bazén s mořskou vodou\, příjemný stín stromů\, vlastní záliv\, restauraci a sportovní vyžití. V okolí se nachází Národní park Kornati\, ostrov Vrgada a Murter či přímořské město Zadar se svou kouzelnou atmosférou. \nV průběhu pobytu budou některé večery doprovázeny hudbou\, zaměřené na různé styly a bude možnost si zahrát i na svůj hudební nástroj při společném jamování. \nCena zahrnuje ubytování \,lektorný a služby delegáta na místě.\nCena nezahrnuje dopravu a stravu.\nPřipojte se k nám a buďte součástí této úžasné cesty. \nRegistrace uzavřena.
URL:https://mamezabavu.cz/akce/transformacni-dovolena-s-jirim-ledvinkou-a-jaroslavem-grunwaldem/
LOCATION:Drage\, Chorvatsko\, Kemp Oaza Mira\, Drage\, Chorvatsko
ATTACH;FMTTYPE=image/jpeg:https://mamezabavu.cz/wp-content/uploads/chorvatsko-24-980x552-1-e1725542371703.jpg
END:VEVENT
END:VCALENDAR