BEGIN:VCALENDAR
VERSION:2.0
PRODID:-//Máme zábavu - ECPv6.6.1//NONSGML v1.0//EN
CALSCALE:GREGORIAN
METHOD:PUBLISH
X-WR-CALNAME:Máme zábavu
X-ORIGINAL-URL:https://mamezabavu.cz
X-WR-CALDESC:Akce na Máme zábavu
REFRESH-INTERVAL;VALUE=DURATION:PT1H
X-Robots-Tag:noindex
X-PUBLISHED-TTL:PT1H
BEGIN:VTIMEZONE
TZID:Europe/Prague
BEGIN:DAYLIGHT
TZOFFSETFROM:+0100
TZOFFSETTO:+0200
TZNAME:CEST
DTSTART:20240331T010000
END:DAYLIGHT
BEGIN:STANDARD
TZOFFSETFROM:+0200
TZOFFSETTO:+0100
TZNAME:CET
DTSTART:20241027T010000
END:STANDARD
BEGIN:DAYLIGHT
TZOFFSETFROM:+0100
TZOFFSETTO:+0200
TZNAME:CEST
DTSTART:20250330T010000
END:DAYLIGHT
BEGIN:STANDARD
TZOFFSETFROM:+0200
TZOFFSETTO:+0100
TZNAME:CET
DTSTART:20251026T010000
END:STANDARD
BEGIN:DAYLIGHT
TZOFFSETFROM:+0100
TZOFFSETTO:+0200
TZNAME:CEST
DTSTART:20260329T010000
END:DAYLIGHT
BEGIN:STANDARD
TZOFFSETFROM:+0200
TZOFFSETTO:+0100
TZNAME:CET
DTSTART:20261025T010000
END:STANDARD
END:VTIMEZONE
BEGIN:VEVENT
DTSTART;TZID=Europe/Prague:20241211T180000
DTEND;TZID=Europe/Prague:20241211T210000
DTSTAMP:20260421T054310
CREATED:20241122T103825Z
LAST-MODIFIED:20241122T123633Z
UID:458-1733940000-1733950800@mamezabavu.cz
SUMMARY:Olga Pašková koncert v centru Prahy
DESCRIPTION:Olga Pašková\n \nJe sólová písničkářka autorských klavírních skladeb. Ráda si hraje s hudbou i slovy.\nJejí tvorba je ovlivněná a inspirovaná častými cestami do přírody\, hlavně v zahraničí\, a proto je většina jejich textů v angličtině\, sem tam přidá i nějaký český text. \nVstupte a zaposlouchejte se. Spolu s výbornou kávou si užijeme atmosféru vánoční Prahy. \nVstupné dobrovolné.\nOdkaz na událost na Facebooku
URL:https://mamezabavu.cz/akce/olga-paskova-koncert-v-centru-prahy/
LOCATION:Kafe Damu Praha\, Karlova 223/26\, Praha\, 11000\, Czech Republic
ATTACH;FMTTYPE=image/jpeg:https://mamezabavu.cz/wp-content/uploads/Letak-Olga-Paskova-Praha.jpg
END:VEVENT
BEGIN:VEVENT
DTSTART;TZID=Europe/Prague:20250306T190000
DTEND;TZID=Europe/Prague:20250306T220000
DTSTAMP:20260421T054310
CREATED:20250228T111457Z
LAST-MODIFIED:20250301T101132Z
UID:629-1741287600-1741298400@mamezabavu.cz
SUMMARY:Olga Pašková koncert v centru Prahy
DESCRIPTION:Olga Pašková\n \nJe sólová písničkářka autorských klavírních skladeb. Ráda si hraje s hudbou i slovy.\nJejí tvorba je ovlivněná a inspirovaná častými cestami do přírody\, hlavně v zahraničí\, a proto je většina jejich textů v angličtině\, sem tam přidá i nějaký český text. \nVstupte a zaposlouchejte se. Spolu s výbornou kávou si užijeme atmosféru jarní Prahy. \nKoncert je rozdělen na dvě části\, začátek v 19:00 a 20:30. \nVstupné dobrovolné.\nOdkaz na událost na Facebooku. \nUkázky: \nhttps://mamezabavu.cz/wp-content/uploads/AUDIO-Olga-2025-02-24-20-31-36.mp3
URL:https://mamezabavu.cz/akce/olga-paskova-koncert-v-centru-prahy-2/
LOCATION:Kafe Damu Praha\, Karlova 223/26\, Praha\, 11000\, Czech Republic
ATTACH;FMTTYPE=image/jpeg:https://mamezabavu.cz/wp-content/uploads/Olga-Paskova-6.3.jpg
END:VEVENT
BEGIN:VEVENT
DTSTART;TZID=Europe/Prague:20250412T200000
DTEND;TZID=Europe/Prague:20250412T200000
DTSTAMP:20260421T054310
CREATED:20250319T113526Z
LAST-MODIFIED:20250320T025950Z
UID:736-1744488000-1744488000@mamezabavu.cz
SUMMARY:Dita trio koncert v centru Prahy
DESCRIPTION:Dita je charismatická a živelná muzikantka\, která si skládá originální českou a anglickou hudbu v různých žánrech od blues přes rock\, reggae či jazz (americana). Doprovází se na kytaru\, ukulele a foukací harmoniky. Pravidelně vystupuje v klubech\, na trzích a festivalech sólo nebo s kapelou Dita trio v současném složení Jan Skružný basa a Tala Tafech/Hana Gasseldorferová perkuse/bicí. \nVstupné dobrovolné.\nOdkaz na událost na Facebooku. \nUkázka:\nhttps://mamezabavu.cz/wp-content/uploads/Dita-trio-Visim-stojim.mp3
URL:https://mamezabavu.cz/akce/dita-trio-koncert-praha/
LOCATION:Kafe Damu Praha\, Karlova 223/26\, Praha\, 11000\, Czech Republic
ATTACH;FMTTYPE=image/jpeg:https://mamezabavu.cz/wp-content/uploads/Dita-trio-Damu.jpeg
END:VEVENT
BEGIN:VEVENT
DTSTART;TZID=Europe/Prague:20250422T080000
DTEND;TZID=Europe/Prague:20250422T170000
DTSTAMP:20260421T054310
CREATED:20250422T151701Z
LAST-MODIFIED:20250422T152401Z
UID:790-1745308800-1745341200@mamezabavu.cz
SUMMARY:test
DESCRIPTION:test
URL:https://mamezabavu.cz/akce/test/
END:VEVENT
BEGIN:VEVENT
DTSTART;TZID=Europe/Prague:20250517T183000
DTEND;TZID=Europe/Prague:20250517T183000
DTSTAMP:20260421T054310
CREATED:20250228T105555Z
LAST-MODIFIED:20250422T075211Z
UID:616-1747506600-1747506600@mamezabavu.cz
SUMMARY:Margit Koláčková koncert violoncello v klášteru Plasy
DESCRIPTION:Koupit vstupenku \nSolová violoncellistka Margit Koláčková\, jež má rozmanitý repertoár\, propojuje klasickou hudbu s hudbu lidovou\, improvizací i meditací. V květnový podvečer zazní na opatském sále plaské prelatury\, chete-li na zámku Metternichů\, v jejím podání skladby: \nPreludium – J. S. Bach \nKdyž mně stará matka – A. Dvořák \nVýběr z cellové sonáty – C. Debussy \na další. \nMargit Koláčková „jednou mi někdo řekl\, že zvuk violoncella má stejnou vibraci jako lidské srdce. Ve své praxi koncertní umělkyně jsem se často potkávala s hlubšími emočními prožitky posluchačů. Vznikl tak projekt\, ve kterém violoncello představím v jeho různých podobách. V klasické hudbě\, hudbě lidové\, ve spojení s moudrými příběhy nebo v barevné nástrojové a pěvecké improvizaci. Tóny nástroje se tak dotknou našeho srdce\, zdroje\, odkud čerpáme naši vnitřní sílu.“ \nVstupenky jsou k dispozici v předprodeji na pokladnách kláštera\, nebo on-line. \nVíce o Margit zde.\nOdkaz na událost na Facebooku. \nUkázka:
URL:https://mamezabavu.cz/akce/margit-kolackova-plasy/
LOCATION:klášter Plasy\, Pivovarská 1\, Plasy\, 33101\, Czech Republic
ATTACH;FMTTYPE=image/jpeg:https://mamezabavu.cz/wp-content/uploads/Margit-Plasy.jpeg
END:VEVENT
BEGIN:VEVENT
DTSTART;TZID=Europe/Prague:20250531T100000
DTEND;TZID=Europe/Prague:20250531T220000
DTSTAMP:20260421T054310
CREATED:20250226T044940Z
LAST-MODIFIED:20250529T072842Z
UID:603-1748685600-1748728800@mamezabavu.cz
SUMMARY:Festival Naděje člověka
DESCRIPTION:Koupit vstupenku \n \n\nZveme vás na Řehenický dvorek\, kde na vás čeká výjimečná atmosféra\, jedinečný program\, klasické i vegetariánské občerstvení\, sladké pochoutky\, originální speciality. \nPopis:\nFestival je jednodenním setkáním\, kde se spojí kreativita\, workshopy s otevřenou debatou o životě. \nVyzkoušíte si práci s minerály\, aromaterapii\, malování\, divadélko\, tvůrčí dílny pro dospělé i děti.  \n🎶 Živá hudba se bude prolínat celým dnem a setkáte se s lidmi\, kteří přemýšlejí jinak. \n🌟 Vrcholem dne bude inspirativní debata s Jirkou Ledvinkou a jeho hosty Františkem Klapkou a zástupci projektu Mámedomškolu – nový projekt v oblasti práce s dětmi a jejich vzdělávání. \nNa co se můžete těšit?\n🎶 Celodenní živá hudba od našich muzikantů\n🎨 Workshopy a tvořivé dílny\n🛍 Umělecký trh plný originální tvorby\n🤝 Sdílení – prostor pro inspiraci a propojení\n👧 Program pro děti plný zábavy \nPřijďte si užít den plný zážitků! \nTěšíme se na vás\,\nTým Máme zábavu \nOdkaz na událost na Facebooku \nDoprava a parkování:\nOmlouváme se\, ale spolujízdy na festival nejsme schopni zařídit. Parkování zajištěno na louce vedle areálu. \n\n\nProdejní formulář je již uzavřen\, vstupenky bude možné si zakoupit na místě. \nV případě dotazů nás kontaktujte emailem na info@mamezabavu.cz. Požadavky na storno a dotazy k platbám posílejte na platby@nadejecloveka.cz.
URL:https://mamezabavu.cz/akce/festival-nadeje-cloveka/
LOCATION:Soukromý: Řehenický dvorek\, Řehenice 34\, Řehenice\, 251 67\, Czech Republic
ATTACH;FMTTYPE=image/jpeg:https://mamezabavu.cz/wp-content/uploads/Festival-nadeje-cloveka-1.jpg
END:VEVENT
BEGIN:VEVENT
DTSTART;TZID=Europe/Prague:20250712T100000
DTEND;TZID=Europe/Prague:20250712T220000
DTSTAMP:20260421T054310
CREATED:20250508T161603Z
LAST-MODIFIED:20250709T201351Z
UID:821-1752314400-1752357600@mamezabavu.cz
SUMMARY:Společný festival s Jiřím Ledvinkou
DESCRIPTION:Koupit vstupenku \nOnline přihlašování bylo již uzavřeno. Vstupenky bude možné zakoupit na místě.  \nMáme připraveny venkovní i vnitřní prostory. Bavíme se za každého počasí. \nV případě potřeby volejte na ‪tel. číslo +420 731 536 100. \n—Společný festival s Jiřím Ledvinkou pro celou rodinu. \nU sebe a spolu. \nPřipravili jsme pro vás den\, který můžete strávit s námi\, Jirkou\, sami se sebou\, s rodinou a přáteli. \nPo setkání s našimi umělci v projektu Máme zábavu\, kde proběhl jam session\, jsme se rozhodli dát možnost tuto krásnou atmosféru zažít i vám. \nNa místě vytvoříme prostor pro společnou zábavu\, kde festival bude probíhat formou volné improvizace a program může volně plynout. Pozvaní jsou například umělci z projektu Máme zábavu\, kteří mohou spontánně vystoupit\, přidat se ke společnému jamu\, pobavit děti i dospělé. Bude interaktivní dětské divadélko a dětský koutek\, procházka za zvířaty na farmě\, stánek s vůněmi esenciálních olejů ze slovenských luk\, hudba živá i reprodukovaná. Čeká nás spousta krásných a silných setkání a rozhovorů. Můžete se těšit na dobré jídlo i pití a prožít krásný den na farmě s pěkným ubytováním. Vytvoříme spolu to\, co si dovolíme.Pokud budete mít chuť se připojit ke společnému jamu\, vezměte si svůj oblíbený nástroj. Pro vaše pohodlí si sebou vezměte deku nebo něco na sezení. \nPři naší společné tvorbě tohoto záměru se Jirka rozhodl\, že se v rámci dne sejdeme v jeden okamžik a posedíme spolu 5 minut v tichu\, a to v 15 hodin. \nV ceně vstupenky v předprodeji bude jeden nealko nápoj a talíř obědového menu\, abychom měli postaráno o pohodu pěkně kompletně 12:30-14:30hod. Večer potom budou k dispozici farmářské pochoutky z venkovního grilu\, které si bude možné objednat. Jídlo bude klasické i vegetariánské. \nZ praktických důvodů uvítáme\, když si objednáte svou vstupenku včas\, abychom mohli vše připravit pro odpovídající počet lidí. Proto nabízíme vstupenky první měsíc s počáteční slevou\, jako poděkování za spolupráci při organizování akce. Vstupenky\, zakoupené na místě\, budou bez poukázky na nápoj a jídlo. \nTento den vnímáme jako další posun v setkávání s Jirkou.Bude k dispozici po celou dobu festivalu\, kde se s ním můžete setkat.Nic od něj neočekáváme a víme\, že stejně přijde to nejlepší a naplno. \nMoc se těšíme na vás všechny a jsme rádi\, že jste přijali pozvání a dobře se bavte\, jakkoli vám to vyhovuje. \nPostupně budeme zveřejňovat další informace a možná i videa\, takže sledujte naše stránky http://nadejecloveka.cz\, https://mamezabavu.cz\, YouTube kanál Máme zábavu i sociální sítě Facebook a IG. \nUbytování: \nRezervovat si můžete na emailu: nova.amerika@karsitagro.cz\nnebo tel.: +420 771 298 372 \nVíce o ubytování na farmě na http://farma-nova-amerika.czMožné si pronajmout dvoulůžkový pokoj nebo apartmán\, v některých případech lze i přistýlka.\nPokud chcete na farmě strávit více nocí\, je to možné.Do areálu farmy\, a tedy i festivalu\, není povolen vstup se zvířaty. \nKempování a parkování: Kempování možné ve stanu nebo obytném autě za příplatek 200Kč karavan\, 150Kč stan a 100Kč osoba k dispozici sprchy a toalety. Parkování zajištěno na louce vedle areálu. \nNaše pozvání přijali například: Pavel Gabriel\, Veronika Wildová\, Libor Hořejší\, Karel Vo\, Danka Sihelská\, Dita trio \n \nV případě dotazů nás kontaktujte emailem na info@mamezabavu.cz. Požadavky na storno a dotazy k platbám posílejte na platby@nadejecloveka.cz.
URL:https://mamezabavu.cz/akce/spolecny-festival-s-jirim-ledvinkou/
LOCATION:Farma Nová Amerika\, Kašov 45\, Kuks\, 544 01\, Czech Republic
ATTACH;FMTTYPE=image/jpeg:https://mamezabavu.cz/wp-content/uploads/Spolecny-festival-s-Jirim-Ledvinkou-1.jpg
END:VEVENT
BEGIN:VEVENT
DTSTART;TZID=Europe/Prague:20260209T190000
DTEND;TZID=Europe/Prague:20260209T193000
DTSTAMP:20260421T054310
CREATED:20260127T142555Z
LAST-MODIFIED:20260127T142555Z
UID:1037-1770663600-1770665400@mamezabavu.cz
SUMMARY:ONLINE SETKÁNÍ S HUDBOU A PŘÍBĚHEM Daniel Mlýnek – živě 9.2.2026
DESCRIPTION:Zveme vás na intimní online večer s hudbou a příběhem.\nDaniel Mlýnek zahraje 3 autorské písně a mezi nimi vás vezme do svého světa – toho\, kde vznikají texty\, emoce a ticho mezi tóny. \nNejde o koncert.\nJde o setkání. O chvíli\, kdy se můžete na dálku propojit s umělcem\, jeho hlasem a tím\, co je mezi řádky. \nV klidu domova.\nSe sluchátky\, čajem nebo vínem.\nBez davů\, bez spěchu – jen vy a hudba. \ncca 20–30 minut \n 
URL:https://mamezabavu.cz/akce/online-setkani-s-hudbou-a-pribehem-daniel-mlynek-zive-9-2-2026/
ATTACH;FMTTYPE=image/jpeg:https://mamezabavu.cz/wp-content/uploads/microphone-5340340_1280.jpg
END:VEVENT
BEGIN:VEVENT
DTSTART;TZID=Europe/Prague:20260314T190000
DTEND;TZID=Europe/Prague:20260314T191000
DTSTAMP:20260421T054310
CREATED:20260307T074338Z
LAST-MODIFIED:20260307T083034Z
UID:1060-1773514800-1773515400@mamezabavu.cz
SUMMARY:Pohádkový mlýneček
DESCRIPTION:Kdy: v sobotu 14.3.2026 od 19:00 do cca 19:10 \nOnline přes YouTube – budeme rádi\, když nám v komentářích zanecháte vzkaz\, jak se pohádka dětem či vám líbila. \nCena: 99 Kč \nVečerní online pohádky pro děti i dospělé. Na setkání zazni jedna pohádka s hudebním doprovodem a prostorem pro sdílení.\nAkce potrvá 5 – 10 minut. \nSetkáním vás provede a těší se na vás autor \nDaniel Mlýnek
URL:https://mamezabavu.cz/akce/pohadkovy-mlynecek/
ATTACH;FMTTYPE=image/jpeg:https://mamezabavu.cz/wp-content/uploads/WhatsApp-Image-2026-02-22-at-16.25.23.jpeg
END:VEVENT
END:VCALENDAR